BEGIN:VCALENDAR
VERSION:2.0
PRODID:-//ChamberMaster//Event Calendar 2.0//EN
METHOD:PUBLISH
X-PUBLISHED-TTL:P3D
REFRESH-INTERVAL:P3D
CALSCALE:GREGORIAN
BEGIN:VEVENT
DTSTART:20150922T210000Z
DTEND:20150923T000000Z
X-MICROSOFT-CDO-ALLDAYEVENT:FALSE
SUMMARY:Kaplan University Meet & Greet Wild Bill's
DESCRIPTION:Sept 22nd at Wild Bill's Wings & Bowling 4-7
X-ALT-DESC;FMTTYPE=text/html:<span style="font-family: Verdana\, sans-serif\; font-size: 16px\; line-height: 19.6959991455078px\; background-color: rgb(255\, 255\, 255)\;">&nbsp\;Sept 22nd at Wild Bill&#39\;s Wings &amp\; Bowling 4-7</span>
LOCATION:
UID:e.590.7372
SEQUENCE:3
DTSTAMP:20260420T011703Z
URL:https://business.nparea.com/events/details/kaplan-university-meet-greet-wild-bill-s-09-22-2015-7372
END:VEVENT

END:VCALENDAR
