BEGIN:VCALENDAR
VERSION:2.0
PRODID:-//ChamberMaster//Event Calendar 2.0//EN
METHOD:PUBLISH
X-PUBLISHED-TTL:P3D
REFRESH-INTERVAL:P3D
CALSCALE:GREGORIAN
BEGIN:VEVENT
DTSTART:20151104T003000Z
DTEND:20151104T020000Z
X-MICROSOFT-CDO-ALLDAYEVENT:FALSE
SUMMARY:Hostess Meeting
DESCRIPTION:Hostesses in November\, 2015\n\nMeet at GP Health at 6:30pm
X-ALT-DESC;FMTTYPE=text/html:Hostesses in November\, 2015<br />\nMeet at GP Health at 6:30pm
LOCATION:
UID:e.590.510
SEQUENCE:3
DTSTAMP:20260419T210506Z
URL:https://business.nparea.com/events/details/hostess-meeting-11-03-2015-510
END:VEVENT

END:VCALENDAR
