BEGIN:VCALENDAR
VERSION:2.0
PRODID:-//ChamberMaster//Event Calendar 2.0//EN
METHOD:PUBLISH
X-PUBLISHED-TTL:P3D
REFRESH-INTERVAL:P3D
CALSCALE:GREGORIAN
BEGIN:VEVENT
DTSTART;VALUE=DATE:20140214
DTEND;VALUE=DATE:20140217
TRANSP:TRANSPARENT
X-MICROSOFT-CDO-ALLDAYEVENT:TRUE
SUMMARY:Home Sweet Home Show
DESCRIPTION:Home Sweet Home Show\n\nFebruary 14\, 15 & 16th\n\nQuality Inn & Suites\n\nBoard Cutting at 3:45 on Friday\, February 14\, 2014\n\nHours:g\n\nFriday\, February 14 - 4-8pm\n\nSaturday\, February 15 - 9am-7pm\n\nSunday\, February 16 - 10am - 4pm
X-ALT-DESC;FMTTYPE=text/html:Home Sweet Home Show<br />\nFebruary 14\, 15 &amp\; 16th<br />\nQuality Inn &amp\; Suites<br />\nBoard Cutting at 3:45 on Friday\, February 14\, 2014<br />\nHours:g<br />\nFriday\, February 14 - 4-8pm<br />\nSaturday\, February 15 - 9am-7pm<br />\nSunday\, February 16 - 10am - 4pm<br type="_moz" />\n
LOCATION:
UID:e.590.5871
SEQUENCE:3
DTSTAMP:20260421T115746Z
URL:https://business.nparea.com/events/details/home-sweet-home-show-02-14-2014-5871
END:VEVENT

END:VCALENDAR
