BEGIN:VCALENDAR
VERSION:2.0
PRODID:-//ChamberMaster//Event Calendar 2.0//EN
METHOD:PUBLISH
X-PUBLISHED-TTL:P3D
REFRESH-INTERVAL:P3D
CALSCALE:GREGORIAN
BEGIN:VEVENT
DTSTART:20150921T140000Z
DTEND:20150921T150000Z
X-MICROSOFT-CDO-ALLDAYEVENT:FALSE
SUMMARY:Hobby Lobby Ribbon Cutting
DESCRIPTION:Hobby Lobby Ribbon Cutting
X-ALT-DESC;FMTTYPE=text/html:Hobby Lobby Ribbon Cutting
LOCATION:
UID:e.590.7371
SEQUENCE:3
DTSTAMP:20260420T011850Z
URL:https://business.nparea.com/events/details/hobby-lobby-ribbon-cutting-09-21-2015-7371
END:VEVENT

END:VCALENDAR
