BEGIN:VCALENDAR
VERSION:2.0
PRODID:-//ChamberMaster//Event Calendar 2.0//EN
METHOD:PUBLISH
X-PUBLISHED-TTL:P3D
REFRESH-INTERVAL:P3D
CALSCALE:GREGORIAN
BEGIN:VEVENT
DTSTART:20150829T153000Z
DTEND:20150829T170000Z
X-MICROSOFT-CDO-ALLDAYEVENT:FALSE
SUMMARY:Hershey Parade
DESCRIPTION:Hershey Parade\n\nSaturday August 29th\n\nAmbassador/Hostess Line-up at 9:30am\n\nParade Starts at 10:30am
X-ALT-DESC;FMTTYPE=text/html:Hershey Parade<br />\nSaturday August 29th<br />\nAmbassador/Hostess Line-up at 9:30am<br />\nParade Starts at 10:30am
LOCATION:
UID:e.590.7369
SEQUENCE:3
DTSTAMP:20260420T051301Z
URL:https://business.nparea.com/events/details/hershey-parade-08-29-2015-7369
END:VEVENT

END:VCALENDAR
