BEGIN:VCALENDAR
VERSION:2.0
PRODID:-//ChamberMaster//Event Calendar 2.0//EN
METHOD:PUBLISH
X-PUBLISHED-TTL:P3D
REFRESH-INTERVAL:P3D
CALSCALE:GREGORIAN
BEGIN:VEVENT
DTSTART:20160304T160000Z
DTEND:20160304T170000Z
X-MICROSOFT-CDO-ALLDAYEVENT:FALSE
SUMMARY:Grand Opening & Ribbon Cutting - Scooter's Coffee
DESCRIPTION:Ribbon Cutting & Grand Opening\n\nScooter's Coffee\n\n1400 S Dewey St\n\nFriday\, March 4\, 2015\n\n10am
X-ALT-DESC;FMTTYPE=text/html:Ribbon Cutting &amp\; Grand Opening<br />\nScooter&#39\;s Coffee<br />\n1400 S Dewey St<br />\nFriday\, March 4\, 2015<br />\n10am
LOCATION:
UID:e.590.8165
SEQUENCE:3
DTSTAMP:20260419T154248Z
URL:https://business.nparea.com/events/details/grand-opening-ribbon-cutting-scooter-s-coffee-03-04-2016-8165
END:VEVENT

END:VCALENDAR
