BEGIN:VCALENDAR
VERSION:2.0
PRODID:-//ChamberMaster//Event Calendar 2.0//EN
METHOD:PUBLISH
X-PUBLISHED-TTL:P3D
REFRESH-INTERVAL:P3D
CALSCALE:GREGORIAN
BEGIN:VEVENT
DTSTART:20140626T163000Z
DTEND:20140626T180000Z
X-MICROSOFT-CDO-ALLDAYEVENT:FALSE
SUMMARY:Grand Opening & Ribbon Cutting NebraskaLand National Bank new Westfield location
DESCRIPTION:Grand Opening & Ribbon Cutting\n\nNebraskaLand National Bank new Westfield location
X-ALT-DESC;FMTTYPE=text/html:<span style="font-family: times new roman\,serif\;">Grand Opening &amp\; Ribbon Cutting</span><br />\n<span style="font-family: times new roman\,serif\;">NebraskaLand National Bank new Westfield location</span>
LOCATION:1801 W A St
UID:e.590.5906
SEQUENCE:3
DTSTAMP:20260421T053308Z
URL:https://business.nparea.com/events/details/grand-opening-ribbon-cutting-nebraskaland-national-bank-new-westfield-location-06-26-2014-5906
END:VEVENT

END:VCALENDAR
