BEGIN:VCALENDAR
VERSION:2.0
PRODID:-//ChamberMaster//Event Calendar 2.0//EN
METHOD:PUBLISH
X-PUBLISHED-TTL:P3D
REFRESH-INTERVAL:P3D
CALSCALE:GREGORIAN
BEGIN:VEVENT
DTSTART:20150306T230000Z
DTEND:20150307T010000Z
X-MICROSOFT-CDO-ALLDAYEVENT:FALSE
SUMMARY:Grand Opening - Nebraska Athletic Club
DESCRIPTION:Grand Opening & Ribbon Cutting\n\nTommy V's Nebraska Athletic Club\n\n1701 E 4th St\n\nFriday\, February 27\, 2015\n\n5pm\n\nCome and celebrate with us!
X-ALT-DESC;FMTTYPE=text/html:Grand Opening &amp\; Ribbon Cutting<br />\nTommy V&#39\;s Nebraska Athletic Club<br />\n1701 E 4th St<br />\nFriday\, February 27\, 2015<br />\n5pm<br />\nCome and celebrate with us!
LOCATION:
UID:e.590.6128
SEQUENCE:3
DTSTAMP:20260420T143304Z
URL:https://business.nparea.com/events/details/grand-opening-nebraska-athletic-club-03-06-2015-6128
END:VEVENT

END:VCALENDAR
