BEGIN:VCALENDAR
VERSION:2.0
PRODID:-//ChamberMaster//Event Calendar 2.0//EN
METHOD:PUBLISH
X-PUBLISHED-TTL:P3D
REFRESH-INTERVAL:P3D
CALSCALE:GREGORIAN
BEGIN:VEVENT
DTSTART:20150818T223000Z
DTEND:20150818T230000Z
X-MICROSOFT-CDO-ALLDAYEVENT:FALSE
SUMMARY:GP Health Ribbon Cutting
DESCRIPTION:Ribbon Cutting
X-ALT-DESC;FMTTYPE=text/html:Ribbon Cutting
LOCATION:At the New Tower
UID:e.590.7363
SEQUENCE:3
DTSTAMP:20260420T053622Z
URL:https://business.nparea.com/events/details/gp-health-ribbon-cutting-08-18-2015-7363
END:VEVENT

END:VCALENDAR
