BEGIN:VCALENDAR
VERSION:2.0
PRODID:-//ChamberMaster//Event Calendar 2.0//EN
METHOD:PUBLISH
X-PUBLISHED-TTL:P3D
REFRESH-INTERVAL:P3D
CALSCALE:GREGORIAN
BEGIN:VEVENT
DTSTART:20150909T130000Z
DTEND:20150909T140000Z
X-MICROSOFT-CDO-ALLDAYEVENT:FALSE
SUMMARY:Governmental Affairs Meeting at Chamber
DESCRIPTION:Governmental Affairs\n\n9/9/15\n\nChamber Board Room\n\n8:00am
X-ALT-DESC;FMTTYPE=text/html:Governmental Affairs<br />\n9/9/15<br />\nChamber Board Room<br />\n8:00am<br />\n&nbsp\;
LOCATION:
UID:e.590.7374
SEQUENCE:3
DTSTAMP:20260420T032748Z
URL:https://business.nparea.com/events/details/governmental-affairs-meeting-at-chamber-09-09-2015-7374
END:VEVENT

END:VCALENDAR
