BEGIN:VCALENDAR
VERSION:2.0
PRODID:-//ChamberMaster//Event Calendar 2.0//EN
METHOD:PUBLISH
X-PUBLISHED-TTL:P3D
REFRESH-INTERVAL:P3D
CALSCALE:GREGORIAN
BEGIN:VEVENT
DTSTART:20140403T170000Z
DTEND:20140403T180000Z
X-MICROSOFT-CDO-ALLDAYEVENT:FALSE
SUMMARY:Government Affairs Meet & Greet the District 42 candidates
DESCRIPTION:Government Affairs Meet & Greet the District 42 Candidates\n\non Thursday\, April 3\, 2014 at noon at Bailey's American Cuisine\, 3rd floor. Lunch is sponsored by Nebraskaland National Bank. Please  RSVP to 532-4966 if you plan to attend.
X-ALT-DESC;FMTTYPE=text/html:Government Affairs Meet &amp\; Greet the District 42 Candidates<br />\non Thursday\, April 3\, 2014 at noon at Bailey&#39\;s American Cuisine\, 3rd floor.&nbsp\;Lunch is sponsored by Nebraskaland National Bank.&nbsp\;Please &nbsp\;RSVP to 532-4966 if you plan to attend.
LOCATION:
UID:e.590.5898
SEQUENCE:3
DTSTAMP:20260421T101718Z
URL:https://business.nparea.com/events/details/government-affairs-meet-greet-the-district-42-candidates-04-03-2014-5898
END:VEVENT

END:VCALENDAR
