BEGIN:VCALENDAR
VERSION:2.0
PRODID:-//ChamberMaster//Event Calendar 2.0//EN
METHOD:PUBLISH
X-PUBLISHED-TTL:P3D
REFRESH-INTERVAL:P3D
CALSCALE:GREGORIAN
BEGIN:VEVENT
DTSTART:20140404T160000Z
DTEND:20140404T160000Z
X-MICROSOFT-CDO-ALLDAYEVENT:FALSE
SUMMARY:GO & RC The Connection Construction Zone
DESCRIPTION:Ribbon Cutting & Grand Opening\n\nThe Connection Construction Zone\n\nFriday\, April 4\, 2014\n\n11:00am\n\n422 E 6th Street
X-ALT-DESC;FMTTYPE=text/html:Ribbon Cutting &amp\; Grand Opening<br />\nThe Connection Construction Zone<br />\nFriday\, April 4\, 2014<br />\n11:00am<br />\n422 E 6th Street
LOCATION:
UID:e.590.5897
SEQUENCE:3
DTSTAMP:20260421T095327Z
URL:https://business.nparea.com/events/details/go-rc-the-connection-construction-zone-04-04-2014-5897
END:VEVENT

END:VCALENDAR
