BEGIN:VCALENDAR
VERSION:2.0
PRODID:-//ChamberMaster//Event Calendar 2.0//EN
METHOD:PUBLISH
X-PUBLISHED-TTL:P3D
REFRESH-INTERVAL:P3D
CALSCALE:GREGORIAN
BEGIN:VEVENT
DTSTART:20151017T150000Z
DTEND:20151017T170000Z
X-MICROSOFT-CDO-ALLDAYEVENT:FALSE
SUMMARY:GO & RC Tender Hearts Veterinary Services
DESCRIPTION:Grand Opening & Ribbon Cutting\n\nTender Hearts Veterinary Center
X-ALT-DESC;FMTTYPE=text/html:Grand Opening &amp\; Ribbon Cutting<br />\nTender Hearts Veterinary Center<br />\n<br />\n<br />\n&nbsp\;
LOCATION:1208 West A Street
UID:e.590.7390
SEQUENCE:3
DTSTAMP:20260420T011916Z
URL:https://business.nparea.com/events/details/go-rc-tender-hearts-veterinary-services-10-17-2015-7390
END:VEVENT

END:VCALENDAR
