BEGIN:VCALENDAR
VERSION:2.0
PRODID:-//ChamberMaster//Event Calendar 2.0//EN
METHOD:PUBLISH
X-PUBLISHED-TTL:P3D
REFRESH-INTERVAL:P3D
CALSCALE:GREGORIAN
BEGIN:VEVENT
DTSTART:20120516T220000Z
DTEND:20120516T230000Z
X-MICROSOFT-CDO-ALLDAYEVENT:FALSE
SUMMARY:GO/RC at Curtis State Bank/Western NE Insurance
DESCRIPTION:
X-ALT-DESC;FMTTYPE=text/html:
LOCATION:416 South Dewey Street
UID:e.590.3554
SEQUENCE:3
DTSTAMP:20260423T000930Z
URL:https://business.nparea.com/events/details/go-rc-at-curtis-state-bank-western-ne-insurance-05-16-2012-3554
END:VEVENT

END:VCALENDAR
