BEGIN:VCALENDAR
VERSION:2.0
PRODID:-//ChamberMaster//Event Calendar 2.0//EN
METHOD:PUBLISH
X-PUBLISHED-TTL:P3D
REFRESH-INTERVAL:P3D
CALSCALE:GREGORIAN
BEGIN:VEVENT
DTSTART:20151127T234500Z
DTEND:20151128T020000Z
X-MICROSOFT-CDO-ALLDAYEVENT:FALSE
SUMMARY:Festival of Trees Grand Opening Kickoff
DESCRIPTION:Festival of Trees Grand Opening\n\nFriday\, November 27\, 2015\n\nSanta will cut the ribbon at 5:45PM\n\nQuality Inn & Suites
X-ALT-DESC;FMTTYPE=text/html:Festival of Trees Grand Opening<br />\nFriday\, November 27\, 2015<br />\nSanta will cut the ribbon at 5:45PM<br />\nQuality Inn &amp\; Suites<br />\n&nbsp\;
LOCATION:
UID:e.590.7524
SEQUENCE:3
DTSTAMP:20260419T230350Z
URL:https://business.nparea.com/events/details/festival-of-trees-grand-opening-kickoff-11-27-2015-7524
END:VEVENT

END:VCALENDAR
