BEGIN:VCALENDAR
VERSION:2.0
PRODID:-//ChamberMaster//Event Calendar 2.0//EN
METHOD:PUBLISH
X-PUBLISHED-TTL:P3D
REFRESH-INTERVAL:P3D
CALSCALE:GREGORIAN
BEGIN:VEVENT
DTSTART:20151117T000000Z
DTEND:20151117T020000Z
X-MICROSOFT-CDO-ALLDAYEVENT:FALSE
SUMMARY:Farmer/Rancher Appreciation Banquet
DESCRIPTION:Farmer/Rancher Appreciation Banquet\n\nMonday\, November 16\, 2015\n\nQuality Inn & Suites
X-ALT-DESC;FMTTYPE=text/html:Farmer/Rancher Appreciation Banquet<br />\nMonday\, November 16\, 2015<br />\nQuality Inn &amp\; Suites
LOCATION:
UID:e.590.7377
SEQUENCE:3
DTSTAMP:20260419T230152Z
URL:https://business.nparea.com/events/details/farmer-rancher-appreciation-banquet-11-16-2015-7377
END:VEVENT

END:VCALENDAR
