BEGIN:VCALENDAR
VERSION:2.0
PRODID:-//ChamberMaster//Event Calendar 2.0//EN
METHOD:PUBLISH
X-PUBLISHED-TTL:P3D
REFRESH-INTERVAL:P3D
CALSCALE:GREGORIAN
BEGIN:VEVENT
DTSTART:20121113T000000Z
DTEND:20121113T040000Z
X-MICROSOFT-CDO-ALLDAYEVENT:FALSE
SUMMARY:Farmer Rancher Appreciation Banquet
DESCRIPTION:North Platte Chamber & Development Farmer Rancher Appreciation Banquet
X-ALT-DESC;FMTTYPE=text/html:North Platte Chamber &amp\; Development Farmer Rancher Appreciation Banquet
LOCATION:Quality Inn & Suites Sandhills Convention Center located at 2102 S Jeffers Street
UID:e.590.4112
SEQUENCE:3
DTSTAMP:20260422T131859Z
URL:https://business.nparea.com/events/details/farmer-rancher-appreciation-banquet-11-12-2012-4112
END:VEVENT

END:VCALENDAR
