BEGIN:VCALENDAR
VERSION:2.0
PRODID:-//ChamberMaster//Event Calendar 2.0//EN
METHOD:PUBLISH
X-PUBLISHED-TTL:P3D
REFRESH-INTERVAL:P3D
CALSCALE:GREGORIAN
BEGIN:VEVENT
DTSTART:20150623T213000Z
DTEND:20150623T230000Z
X-MICROSOFT-CDO-ALLDAYEVENT:FALSE
SUMMARY:Downtown Prime Rib Feed/Ambassador Meeting
DESCRIPTION:
X-ALT-DESC;FMTTYPE=text/html:
LOCATION:
UID:e.590.7352
SEQUENCE:3
DTSTAMP:20260420T073048Z
URL:https://business.nparea.com/events/details/downtown-prime-rib-feed-ambassador-meeting-06-23-2015-7352
END:VEVENT

END:VCALENDAR
