BEGIN:VCALENDAR
VERSION:2.0
PRODID:-//ChamberMaster//Event Calendar 2.0//EN
METHOD:PUBLISH
X-PUBLISHED-TTL:P3D
REFRESH-INTERVAL:P3D
CALSCALE:GREGORIAN
BEGIN:VEVENT
DTSTART:20121207T000000Z
DTEND:20121207T010000Z
X-MICROSOFT-CDO-ALLDAYEVENT:FALSE
SUMMARY:Downtown Christmas Parade
DESCRIPTION:Downtown Christmas Parade.  Starts at 6pm.
X-ALT-DESC;FMTTYPE=text/html:Downtown Christmas Parade.&nbsp\; Starts at 6pm.
LOCATION:
UID:e.590.4636
SEQUENCE:3
DTSTAMP:20260422T113826Z
URL:https://business.nparea.com/events/details/downtown-christmas-parade-12-06-2012-4636
END:VEVENT

END:VCALENDAR
