BEGIN:VCALENDAR
VERSION:2.0
PRODID:-//ChamberMaster//Event Calendar 2.0//EN
METHOD:PUBLISH
X-PUBLISHED-TTL:P3D
REFRESH-INTERVAL:P3D
CALSCALE:GREGORIAN
BEGIN:VEVENT
DTSTART:20120918T160000Z
DTEND:20120918T183000Z
X-MICROSOFT-CDO-ALLDAYEVENT:FALSE
SUMMARY:Consumer Credit Counseling & Ag Real Estate LLC GO/RC
DESCRIPTION:Grand Opening from 11:00am to 1:30pm with a Ribbon Cutting at noon.
X-ALT-DESC;FMTTYPE=text/html:Grand Opening from 11:00am to 1:30pm with a Ribbon Cutting at noon.
LOCATION:Adams Bank\, 2nd Floor
UID:e.590.3909
SEQUENCE:3
DTSTAMP:20260422T184744Z
URL:https://business.nparea.com/events/details/consumer-credit-counseling-ag-real-estate-llc-go-rc-09-18-2012-3909
END:VEVENT

END:VCALENDAR
