BEGIN:VCALENDAR
VERSION:2.0
PRODID:-//ChamberMaster//Event Calendar 2.0//EN
METHOD:PUBLISH
X-PUBLISHED-TTL:P3D
REFRESH-INTERVAL:P3D
CALSCALE:GREGORIAN
BEGIN:VEVENT
DTSTART:20151012T170000Z
DTEND:20151012T180000Z
X-MICROSOFT-CDO-ALLDAYEVENT:FALSE
SUMMARY:Chamber Membership Comm. Mtg.
DESCRIPTION:Chamber Membership Comm. Mtg.
X-ALT-DESC;FMTTYPE=text/html:Chamber Membership Comm. Mtg.
LOCATION:Chamber Board Room
UID:e.590.7383
SEQUENCE:3
DTSTAMP:20260419T225742Z
URL:https://business.nparea.com/events/details/chamber-membership-comm-mtg-10-12-2015-7383
END:VEVENT

END:VCALENDAR
