BEGIN:VCALENDAR
VERSION:2.0
PRODID:-//ChamberMaster//Event Calendar 2.0//EN
METHOD:PUBLISH
X-PUBLISHED-TTL:P3D
REFRESH-INTERVAL:P3D
CALSCALE:GREGORIAN
BEGIN:VEVENT
DTSTART:20121108T180000Z
DTEND:20121108T190000Z
X-MICROSOFT-CDO-ALLDAYEVENT:FALSE
SUMMARY:Chamber & Development Annual Meeting
DESCRIPTION:Chamber & Development Annual Meeting
X-ALT-DESC;FMTTYPE=text/html:Chamber &amp\; Development Annual Meeting
LOCATION:Quality Inn & Suites Thursday\, November 8\, 2012 Noon
UID:e.590.4257
SEQUENCE:3
DTSTAMP:20260422T130622Z
URL:https://business.nparea.com/events/details/chamber-development-annual-meeting-11-08-2012-4257
END:VEVENT

END:VCALENDAR
