BEGIN:VCALENDAR
VERSION:2.0
PRODID:-//ChamberMaster//Event Calendar 2.0//EN
METHOD:PUBLISH
X-PUBLISHED-TTL:P3D
REFRESH-INTERVAL:P3D
CALSCALE:GREGORIAN
BEGIN:VEVENT
DTSTART:20120621T150000Z
DTEND:20120621T160000Z
X-MICROSOFT-CDO-ALLDAYEVENT:FALSE
SUMMARY:Centris Federal Credit Union Ground Breaking
DESCRIPTION:
X-ALT-DESC;FMTTYPE=text/html:
LOCATION:902 South Jeffers Street
UID:e.590.3903
SEQUENCE:3
DTSTAMP:20260422T221521Z
URL:https://business.nparea.com/events/details/centris-federal-credit-union-ground-breaking-06-21-2012-3903
END:VEVENT

END:VCALENDAR
