BEGIN:VCALENDAR
VERSION:2.0
PRODID:-//ChamberMaster//Event Calendar 2.0//EN
METHOD:PUBLISH
X-PUBLISHED-TTL:P3D
REFRESH-INTERVAL:P3D
CALSCALE:GREGORIAN
BEGIN:VEVENT
DTSTART:20140918T221500Z
DTEND:20140918T231500Z
X-MICROSOFT-CDO-ALLDAYEVENT:FALSE
SUMMARY:Candy's Cupcakery Grand Opening & Ribbon Cutting
DESCRIPTION:
X-ALT-DESC;FMTTYPE=text/html:
LOCATION:
UID:e.590.5910
SEQUENCE:3
DTSTAMP:20260421T000644Z
URL:https://business.nparea.com/events/details/candy-s-cupcakery-grand-opening-ribbon-cutting-09-18-2014-5910
END:VEVENT

END:VCALENDAR
