BEGIN:VCALENDAR
VERSION:2.0
PRODID:-//ChamberMaster//Event Calendar 2.0//EN
METHOD:PUBLISH
X-PUBLISHED-TTL:P3D
REFRESH-INTERVAL:P3D
CALSCALE:GREGORIAN
BEGIN:VEVENT
DTSTART:20130221T223000Z
DTEND:20130221T233000Z
X-MICROSOFT-CDO-ALLDAYEVENT:FALSE
SUMMARY:Business During Hours/Open House Project Search
DESCRIPTION:Business During Hours Open House\n\nProject Search\n\nat Wal-Mart DC\n\n4:30-5:30pm
X-ALT-DESC;FMTTYPE=text/html:Business During Hours Open House<br />\nProject Search<br />\nat Wal-Mart DC<br />\n4:30-5:30pm<br />\n<br />\n
LOCATION:
UID:e.590.4643
SEQUENCE:3
DTSTAMP:20260422T083557Z
URL:https://business.nparea.com/events/details/business-during-hours-open-house-project-search-02-21-2013-4643
END:VEVENT

END:VCALENDAR
