BEGIN:VCALENDAR
VERSION:2.0
PRODID:-//ChamberMaster//Event Calendar 2.0//EN
METHOD:PUBLISH
X-PUBLISHED-TTL:P3D
REFRESH-INTERVAL:P3D
CALSCALE:GREGORIAN
BEGIN:VEVENT
DTSTART:20151002T220000Z
DTEND:20151003T000000Z
X-MICROSOFT-CDO-ALLDAYEVENT:FALSE
SUMMARY:Business After Hours Westfield Merchants
DESCRIPTION:1st Friday Business After Hours\n\nWestfield Merchants\n\nLocation   Westfield Shopping Center\n\nFriday\, October 2\, 2015
X-ALT-DESC;FMTTYPE=text/html:<span style="font-family:times new roman\,serif\;">1<span style="vertical-align:text-top\;">st</span>&nbsp\;Friday Business After Hours</span><br />\n<span style="font-family:times new roman\,serif\;">Westfield Merchants</span><br />\n<span style="font-family:times new roman\,serif\;">Location &ndash\; Westfield Shopping Center</span><br />\n<span style="font-family:times new roman\,serif\;">Friday\, October 2\, 2015</span>
LOCATION:Location Westfield Shopping Center
UID:e.590.6889
SEQUENCE:3
DTSTAMP:20260419T231235Z
URL:https://business.nparea.com/events/details/business-after-hours-westfield-merchants-10-02-2015-6889
END:VEVENT

END:VCALENDAR
