BEGIN:VCALENDAR
VERSION:2.0
PRODID:-//ChamberMaster//Event Calendar 2.0//EN
METHOD:PUBLISH
X-PUBLISHED-TTL:P3D
REFRESH-INTERVAL:P3D
CALSCALE:GREGORIAN
BEGIN:VEVENT
DTSTART:20140516T220000Z
DTEND:20140517T000000Z
X-MICROSOFT-CDO-ALLDAYEVENT:FALSE
SUMMARY:Business after Hours - Steele's Roofing & Construction
DESCRIPTION:
X-ALT-DESC;FMTTYPE=text/html:
LOCATION:
UID:e.590.5429
SEQUENCE:3
DTSTAMP:20260421T065653Z
URL:https://business.nparea.com/events/details/business-after-hours-steele-s-roofing-construction-05-16-2014-5429
END:VEVENT

END:VCALENDAR
