BEGIN:VCALENDAR
VERSION:2.0
PRODID:-//ChamberMaster//Event Calendar 2.0//EN
METHOD:PUBLISH
X-PUBLISHED-TTL:P3D
REFRESH-INTERVAL:P3D
CALSCALE:GREGORIAN
BEGIN:VEVENT
DTSTART:20130201T230000Z
DTEND:20130202T010000Z
X-MICROSOFT-CDO-ALLDAYEVENT:FALSE
SUMMARY:Business After Hours/Sculley's Shooters
DESCRIPTION:Business After Hours at Sculley's Shooters
X-ALT-DESC;FMTTYPE=text/html:Business After Hours at Sculley&#39\;s Shooters
LOCATION:2221 East 4th Street
UID:e.590.3556
SEQUENCE:3
DTSTAMP:20260422T083747Z
URL:https://business.nparea.com/events/details/business-after-hours-sculley-s-shooters-02-01-2013-3556
END:VEVENT

END:VCALENDAR
