BEGIN:VCALENDAR
VERSION:2.0
PRODID:-//ChamberMaster//Event Calendar 2.0//EN
METHOD:PUBLISH
X-PUBLISHED-TTL:P3D
REFRESH-INTERVAL:P3D
CALSCALE:GREGORIAN
BEGIN:VEVENT
DTSTART:20140718T220000Z
DTEND:20140719T000000Z
X-MICROSOFT-CDO-ALLDAYEVENT:FALSE
SUMMARY:Business after Hours - NebraskaLand National Bank
DESCRIPTION:
X-ALT-DESC;FMTTYPE=text/html:
LOCATION:At the main bank on the third floor
UID:e.590.5430
SEQUENCE:3
DTSTAMP:20260421T053130Z
URL:https://business.nparea.com/events/details/business-after-hours-nebraskaland-national-bank-07-18-2014-5430
END:VEVENT

END:VCALENDAR
