BEGIN:VCALENDAR
VERSION:2.0
PRODID:-//ChamberMaster//Event Calendar 2.0//EN
METHOD:PUBLISH
X-PUBLISHED-TTL:P3D
REFRESH-INTERVAL:P3D
CALSCALE:GREGORIAN
BEGIN:VEVENT
DTSTART:20130301T230000Z
DTEND:20130302T010000Z
X-MICROSOFT-CDO-ALLDAYEVENT:FALSE
SUMMARY:Business After Hours - Maple Park Dental
DESCRIPTION:1st Friday Business After Hours at Maple Park Dental\n\n	 Associates located at 805 S Maple St\n\n	on Friday\, March 1\, 2013 from 5pm to 7pm!\n\n	Bring a Buck and your Business card!!
X-ALT-DESC;FMTTYPE=text/html:<p>\n	1st Friday Business After Hours at Maple Park Dental<br />\n	&nbsp\;Associates located at 805 S Maple St<br />\n	on Friday\, March 1\, 2013 from 5pm to 7pm!<br />\n	Bring a Buck and your Business card!!</p>\n
LOCATION:Location has been changed to Margie's Bar & Grill at 1008 West 18th Street. (On the River's Edge Golf Course)
UID:e.590.4512
SEQUENCE:3
DTSTAMP:20260422T083744Z
URL:https://business.nparea.com/events/details/business-after-hours-maple-park-dental-03-01-2013-4512
END:VEVENT

END:VCALENDAR
