BEGIN:VCALENDAR
VERSION:2.0
PRODID:-//ChamberMaster//Event Calendar 2.0//EN
METHOD:PUBLISH
X-PUBLISHED-TTL:P3D
REFRESH-INTERVAL:P3D
CALSCALE:GREGORIAN
BEGIN:VEVENT
DTSTART:20150417T220000Z
DTEND:20150418T000000Z
X-MICROSOFT-CDO-ALLDAYEVENT:FALSE
SUMMARY:Business After Hours Iron Eagle Golf Course/Coors
DESCRIPTION:Iron Eagle Golf Course\, 2401 Halligan Drive\, North Platte\, NE 69101
X-ALT-DESC;FMTTYPE=text/html:<span style="color: rgb(51\, 51\, 51)\; font-family: Arial\, sans-serif\; font-size: 13px\; line-height: 17.7272720336914px\; background-color: rgb(255\, 255\, 255)\;">Iron Eagle Golf Course\, 2401&nbsp\;</span>Halligan<span style="color: rgb(51\, 51\, 51)\; font-family: Arial\, sans-serif\; font-size: 13px\; line-height: 17.7272720336914px\; background-color: rgb(255\, 255\, 255)\;">&nbsp\;Drive\, North Platte\, NE 69101</span>
LOCATION:
UID:e.590.7157
SEQUENCE:3
DTSTAMP:20260420T111856Z
URL:https://business.nparea.com/events/details/business-after-hours-iron-eagle-golf-course-coors-04-17-2015-7157
END:VEVENT

END:VCALENDAR
