BEGIN:VCALENDAR
VERSION:2.0
PRODID:-//ChamberMaster//Event Calendar 2.0//EN
METHOD:PUBLISH
X-PUBLISHED-TTL:P3D
REFRESH-INTERVAL:P3D
CALSCALE:GREGORIAN
BEGIN:VEVENT
DTSTART:20160219T230000Z
DTEND:20160220T010000Z
X-MICROSOFT-CDO-ALLDAYEVENT:FALSE
SUMMARY:Business After Hours - Bob Spady Inc
DESCRIPTION:Business After Hours\n\n5:00-7:00pm
X-ALT-DESC;FMTTYPE=text/html:Business After Hours<br />\n5:00-7:00pm
LOCATION:
UID:e.590.7195
SEQUENCE:3
DTSTAMP:20260419T154127Z
URL:https://business.nparea.com/events/details/business-after-hours-bob-spady-inc-02-19-2016-7195
END:VEVENT

END:VCALENDAR
