BEGIN:VCALENDAR
VERSION:2.0
PRODID:-//ChamberMaster//Event Calendar 2.0//EN
METHOD:PUBLISH
X-PUBLISHED-TTL:P3D
REFRESH-INTERVAL:P3D
CALSCALE:GREGORIAN
BEGIN:VEVENT
DTSTART:20121019T220000Z
DTEND:20121020T000000Z
X-MICROSOFT-CDO-ALLDAYEVENT:FALSE
SUMMARY:Business After Hours at Quality Inn & Suites
DESCRIPTION:Business After Hours Co-Hosted by the Quality Inn & Suites Sandhills Convention Center and Wells Fargo Bank.
X-ALT-DESC;FMTTYPE=text/html:Business After Hours Co-Hosted by the Quality Inn &amp\; Suites Sandhills Convention Center and Wells Fargo Bank.
LOCATION:Quality Inn & Suites Sandhills Convention
UID:e.590.3545
SEQUENCE:3
DTSTAMP:20260422T170034Z
URL:https://business.nparea.com/events/details/business-after-hours-at-quality-inn-suites-10-19-2012-3545
END:VEVENT

END:VCALENDAR
