BEGIN:VCALENDAR
VERSION:2.0
PRODID:-//ChamberMaster//Event Calendar 2.0//EN
METHOD:PUBLISH
X-PUBLISHED-TTL:P3D
REFRESH-INTERVAL:P3D
CALSCALE:GREGORIAN
BEGIN:VEVENT
DTSTART:20140418T220000Z
DTEND:20140419T000000Z
X-MICROSOFT-CDO-ALLDAYEVENT:FALSE
SUMMARY:Business after Hours at Iron Eagle Golf Course
DESCRIPTION:
X-ALT-DESC;FMTTYPE=text/html:
LOCATION:
UID:e.590.5425
SEQUENCE:3
DTSTAMP:20260421T090940Z
URL:https://business.nparea.com/events/details/business-after-hours-at-iron-eagle-golf-course-04-18-2014-5425
END:VEVENT

END:VCALENDAR
