BEGIN:VCALENDAR
VERSION:2.0
PRODID:-//ChamberMaster//Event Calendar 2.0//EN
METHOD:PUBLISH
X-PUBLISHED-TTL:P3D
REFRESH-INTERVAL:P3D
CALSCALE:GREGORIAN
BEGIN:VEVENT
DTSTART:20121102T220000Z
DTEND:20121103T000000Z
X-MICROSOFT-CDO-ALLDAYEVENT:FALSE
SUMMARY:Business After Hours at Holiday Inn Express
DESCRIPTION:
X-ALT-DESC;FMTTYPE=text/html:
LOCATION:
UID:e.590.3546
SEQUENCE:3
DTSTAMP:20260422T132120Z
URL:https://business.nparea.com/events/details/business-after-hours-at-holiday-inn-express-11-02-2012-3546
END:VEVENT

END:VCALENDAR
