BEGIN:VCALENDAR
VERSION:2.0
PRODID:-//ChamberMaster//Event Calendar 2.0//EN
METHOD:PUBLISH
X-PUBLISHED-TTL:P3D
REFRESH-INTERVAL:P3D
CALSCALE:GREGORIAN
BEGIN:VEVENT
DTSTART:20131115T230000Z
DTEND:20131116T010000Z
X-MICROSOFT-CDO-ALLDAYEVENT:FALSE
SUMMARY:Business after Hours at Great Western Bank
DESCRIPTION:Business After Hours hosted by Great Western Bank
X-ALT-DESC;FMTTYPE=text/html:Business After Hours hosted by Great Western Bank
LOCATION:Great Western Bank is located at 220 North Dewey St
UID:e.590.4128
SEQUENCE:3
DTSTAMP:20260421T192530Z
URL:https://business.nparea.com/events/details/business-after-hours-at-great-western-bank-11-15-2013-4128
END:VEVENT

END:VCALENDAR
