BEGIN:VCALENDAR
VERSION:2.0
PRODID:-//ChamberMaster//Event Calendar 2.0//EN
METHOD:PUBLISH
X-PUBLISHED-TTL:P3D
REFRESH-INTERVAL:P3D
CALSCALE:GREGORIAN
BEGIN:VEVENT
DTSTART;VALUE=DATE:20130206
DTEND;VALUE=DATE:20130208
TRANSP:TRANSPARENT
X-MICROSOFT-CDO-ALLDAYEVENT:TRUE
SUMMARY:Buffalo Bill Farm & Ranch Expo
DESCRIPTION:
X-ALT-DESC;FMTTYPE=text/html:
LOCATION:
UID:e.590.4129
SEQUENCE:3
DTSTAMP:20260422T094348Z
URL:https://business.nparea.com/events/details/buffalo-bill-farm-ranch-expo-02-06-2013-4129
END:VEVENT

END:VCALENDAR
