BEGIN:VCALENDAR
VERSION:2.0
PRODID:-//ChamberMaster//Event Calendar 2.0//EN
METHOD:PUBLISH
X-PUBLISHED-TTL:P3D
REFRESH-INTERVAL:P3D
CALSCALE:GREGORIAN
BEGIN:VEVENT
DTSTART:20150730T170000Z
DTEND:20150730T180000Z
X-MICROSOFT-CDO-ALLDAYEVENT:FALSE
SUMMARY:Boys Town 1 Year Anniversary/Ribbon Cutting
DESCRIPTION:Ribbon Cutting   Open House to celebrate 1 year anniversary\n\nBoys Town\n\nThursday\, July 30\, 2015\n\nNoon to 1pm\n\n121 N Dewey St Ste 204
X-ALT-DESC;FMTTYPE=text/html:<span style="font-family:times new roman\,serif\;">Ribbon Cutting &ndash\; Open House to celebrate 1 year anniversary</span><br />\n<span style="font-family:times new roman\,serif\;">Boys Town</span><br />\n<span style="font-family:times new roman\,serif\;">Thursday\, July 30\, 2015</span><br />\n<span style="font-family:times new roman\,serif\;">Noon to 1pm</span><br />\n<span style="font-family:times new roman\,serif\;">121 N Dewey St Ste 204</span>
LOCATION:
UID:e.590.7186
SEQUENCE:3
DTSTAMP:20260420T053901Z
URL:https://business.nparea.com/events/details/boys-town-1-year-anniversary-ribbon-cutting-07-30-2015-7186
END:VEVENT

END:VCALENDAR
