BEGIN:VCALENDAR
VERSION:2.0
PRODID:-//ChamberMaster//Event Calendar 2.0//EN
METHOD:PUBLISH
X-PUBLISHED-TTL:P3D
REFRESH-INTERVAL:P3D
CALSCALE:GREGORIAN
BEGIN:VEVENT
DTSTART:20141219T230000Z
DTEND:20141220T010000Z
X-MICROSOFT-CDO-ALLDAYEVENT:FALSE
SUMMARY:Bob Spady GMC Ribbon Cutting
DESCRIPTION:Ribbon Cutting
X-ALT-DESC;FMTTYPE=text/html:Ribbon Cutting
LOCATION:2302 E. 4th St.
UID:e.590.5926
SEQUENCE:3
DTSTAMP:20260420T182420Z
URL:https://business.nparea.com/events/details/bob-spady-gmc-ribbon-cutting-12-19-2014-5926
END:VEVENT

END:VCALENDAR
