BEGIN:VCALENDAR
VERSION:2.0
PRODID:-//ChamberMaster//Event Calendar 2.0//EN
METHOD:PUBLISH
X-PUBLISHED-TTL:P3D
REFRESH-INTERVAL:P3D
CALSCALE:GREGORIAN
BEGIN:VEVENT
DTSTART:20151102T230000Z
DTEND:20151103T020000Z
X-MICROSOFT-CDO-ALLDAYEVENT:FALSE
SUMMARY:Bill Summers GO
DESCRIPTION:Grand Opening
X-ALT-DESC;FMTTYPE=text/html:Grand Opening
LOCATION:
UID:e.590.7379
SEQUENCE:3
DTSTAMP:20260419T225505Z
URL:https://business.nparea.com/events/details/bill-summers-go-11-02-2015-7379
END:VEVENT

END:VCALENDAR
