BEGIN:VCALENDAR
VERSION:2.0
PRODID:-//ChamberMaster//Event Calendar 2.0//EN
METHOD:PUBLISH
X-PUBLISHED-TTL:P3D
REFRESH-INTERVAL:P3D
CALSCALE:GREGORIAN
BEGIN:VEVENT
DTSTART:20141003T163000Z
DTEND:20141003T170000Z
X-MICROSOFT-CDO-ALLDAYEVENT:FALSE
SUMMARY:Bella Salon & Boutique Ribbon Cutting
DESCRIPTION:
X-ALT-DESC;FMTTYPE=text/html:
LOCATION:106 N Jeffers St Ste 4
UID:e.590.5911
SEQUENCE:3
DTSTAMP:20260421T000650Z
URL:https://business.nparea.com/events/details/bella-salon-boutique-ribbon-cutting-10-03-2014-5911
END:VEVENT

END:VCALENDAR
