BEGIN:VCALENDAR
VERSION:2.0
PRODID:-//ChamberMaster//Event Calendar 2.0//EN
METHOD:PUBLISH
X-PUBLISHED-TTL:P3D
REFRESH-INTERVAL:P3D
CALSCALE:GREGORIAN
BEGIN:VEVENT
DTSTART:20131012T150000Z
DTEND:20131012T200000Z
X-MICROSOFT-CDO-ALLDAYEVENT:FALSE
SUMMARY:Be Seen Going Green - Original Town Clean-Up
DESCRIPTION:Leadership Lincoln County Group #3 has partnered with Keep North Platte/Lincoln County Beautiful to clean up Original Town North Platte & to raise funds for an upcoming beautification project.
X-ALT-DESC;FMTTYPE=text/html:Leadership Lincoln County Group #3 has partnered with Keep North Platte/Lincoln County Beautiful to clean up Original Town North Platte &amp\; to raise funds for an upcoming beautification project.
LOCATION:The Berean Church at 8th & Vine Streets
UID:e.590.5580
SEQUENCE:3
DTSTAMP:20260421T192225Z
URL:https://business.nparea.com/events/details/be-seen-going-green-original-town-clean-up-10-12-2013-5580
END:VEVENT

END:VCALENDAR
