BEGIN:VCALENDAR
VERSION:2.0
PRODID:-//ChamberMaster//Event Calendar 2.0//EN
METHOD:PUBLISH
X-PUBLISHED-TTL:P3D
REFRESH-INTERVAL:P3D
CALSCALE:GREGORIAN
BEGIN:VEVENT
DTSTART:20131118T180000Z
DTEND:20131118T190000Z
X-MICROSOFT-CDO-ALLDAYEVENT:FALSE
SUMMARY:Bd Membership meeting
DESCRIPTION:Chamber & Development Board Membership Meeting\n\nMonday\, November 18\, 2013\n\nNoon in the Chamber & Development Board Room\n\nBrock Wurl\, Chair
X-ALT-DESC;FMTTYPE=text/html:Chamber &amp\; Development Board Membership Meeting<br />\nMonday\, November 18\, 2013<br />\nNoon in the Chamber &amp\; Development Board Room<br />\nBrock Wurl\, Chair
LOCATION:
UID:e.590.5724
SEQUENCE:3
DTSTAMP:20260421T172339Z
URL:https://business.nparea.com/events/details/bd-membership-meeting-11-18-2013-5724
END:VEVENT

END:VCALENDAR
