BEGIN:VCALENDAR
VERSION:2.0
PRODID:-//ChamberMaster//Event Calendar 2.0//EN
METHOD:PUBLISH
X-PUBLISHED-TTL:P3D
REFRESH-INTERVAL:P3D
CALSCALE:GREGORIAN
BEGIN:VEVENT
DTSTART:20130802T220000Z
DTEND:20130803T000000Z
X-MICROSOFT-CDO-ALLDAYEVENT:FALSE
SUMMARY:BAH - Platte Bar/Brouillette Law office
DESCRIPTION:Business After Hours co-hosted by the Platte Bar and Brouillette Law
X-ALT-DESC;FMTTYPE=text/html:Business After Hours co-hosted by the Platte Bar and Brouillette Law
LOCATION:Platte Bar is located at 119 West 6th Street
UID:e.590.4126
SEQUENCE:3
DTSTAMP:20260422T002604Z
URL:https://business.nparea.com/events/details/bah-platte-bar-brouillette-law-office-08-02-2013-4126
END:VEVENT

END:VCALENDAR
