BEGIN:VCALENDAR
VERSION:2.0
PRODID:-//ChamberMaster//Event Calendar 2.0//EN
METHOD:PUBLISH
X-PUBLISHED-TTL:P3D
REFRESH-INTERVAL:P3D
CALSCALE:GREGORIAN
BEGIN:VEVENT
DTSTART:20131101T220000Z
DTEND:20131102T000000Z
X-MICROSOFT-CDO-ALLDAYEVENT:FALSE
SUMMARY:BAH - Nebraskaland Days/Platte Barr
DESCRIPTION:Business After Hours\n\nSponsored by Nebraskaland Days and the Platte Bar\n\nFriday November 1\, 2013\n\n5pm - 7pm
X-ALT-DESC;FMTTYPE=text/html:Business After Hours<br />\nSponsored by Nebraskaland Days and the Platte Bar<br />\nFriday November 1\, 2013<br />\n5pm - 7pm
LOCATION:
UID:e.590.5579
SEQUENCE:3
DTSTAMP:20260421T172506Z
URL:https://business.nparea.com/events/details/bah-nebraskaland-days-platte-barr-11-01-2013-5579
END:VEVENT

END:VCALENDAR
