BEGIN:VCALENDAR
VERSION:2.0
PRODID:-//ChamberMaster//Event Calendar 2.0//EN
METHOD:PUBLISH
X-PUBLISHED-TTL:P3D
REFRESH-INTERVAL:P3D
CALSCALE:GREGORIAN
BEGIN:VEVENT
DTSTART:20131213T230000Z
DTEND:20131214T010000Z
X-MICROSOFT-CDO-ALLDAYEVENT:FALSE
SUMMARY:BAH - Mid Plains United Way at The Depot
DESCRIPTION:1st Friday Business After Hours\n\nUnited Way\n\n5-7pm
X-ALT-DESC;FMTTYPE=text/html:1st Friday Business After Hours<br />\nUnited Way<br />\n5-7pm
LOCATION:The Depot
UID:e.590.5575
SEQUENCE:3
DTSTAMP:20260421T171504Z
URL:https://business.nparea.com/events/details/bah-mid-plains-united-way-at-the-depot-12-13-2013-5575
END:VEVENT

END:VCALENDAR
