BEGIN:VCALENDAR
VERSION:2.0
PRODID:-//ChamberMaster//Event Calendar 2.0//EN
METHOD:PUBLISH
X-PUBLISHED-TTL:P3D
REFRESH-INTERVAL:P3D
CALSCALE:GREGORIAN
BEGIN:VEVENT
DTSTART:20140606T220000Z
DTEND:20140607T000000Z
X-MICROSOFT-CDO-ALLDAYEVENT:FALSE
SUMMARY:BAH - LaQuinta/Love's Travel Stop
DESCRIPTION:First Friday Business After Hours\n\nCo-Sponsored by:  LaQuinta Hotel & Suites and Love's Travel Stop\n\nLocation: LaQuinta Hotel & Suites - 2600 Eagles Wings Place\n\nFriday\, June 6\, 2014\n\n5pm to 7pm
X-ALT-DESC;FMTTYPE=text/html:First Friday Business After Hours<br />\nCo-Sponsored by:&nbsp\; LaQuinta Hotel &amp\; Suites&nbsp\;and Love&#39\;s Travel Stop<br />\nLocation: LaQuinta Hotel&nbsp\;&amp\; Suites&nbsp\;- 2600 Eagles Wings Place<br />\nFriday\, June 6\, 2014<br />\n5pm to 7pm
LOCATION:
UID:e.590.5894
SEQUENCE:3
DTSTAMP:20260421T053832Z
URL:https://business.nparea.com/events/details/bah-laquinta-love-s-travel-stop-06-06-2014-5894
END:VEVENT

END:VCALENDAR
