BEGIN:VCALENDAR
VERSION:2.0
PRODID:-//ChamberMaster//Event Calendar 2.0//EN
METHOD:PUBLISH
X-PUBLISHED-TTL:P3D
REFRESH-INTERVAL:P3D
CALSCALE:GREGORIAN
BEGIN:VEVENT
DTSTART:20130816T220000Z
DTEND:20130817T000000Z
X-MICROSOFT-CDO-ALLDAYEVENT:FALSE
SUMMARY:BAH - Lakehouse Bar & Grill
DESCRIPTION:Business After Hours sponsored by Coors Distributing and hosted by the Lakehouse
X-ALT-DESC;FMTTYPE=text/html:Business After Hours sponsored by Coors Distributing and hosted by the&nbsp\;Lakehouse
LOCATION:The Lakehouse located at the inlet at Lake Maloney
UID:e.590.4125
SEQUENCE:3
DTSTAMP:20260422T004202Z
URL:https://business.nparea.com/events/details/bah-lakehouse-bar-grill-08-16-2013-4125
END:VEVENT

END:VCALENDAR
