BEGIN:VCALENDAR
VERSION:2.0
PRODID:-//ChamberMaster//Event Calendar 2.0//EN
METHOD:PUBLISH
X-PUBLISHED-TTL:P3D
REFRESH-INTERVAL:P3D
CALSCALE:GREGORIAN
BEGIN:VEVENT
DTSTART:20130215T230000Z
DTEND:20130216T010000Z
X-MICROSOFT-CDO-ALLDAYEVENT:FALSE
SUMMARY:BAH - Adams Bank/Western Insurors
DESCRIPTION:Business After Hours sponsored by Adams Bank & Trust and Western Insurors
X-ALT-DESC;FMTTYPE=text/html:Business After Hours sponsored by Adams Bank &amp\; Trust and Western Insurors
LOCATION:121 South Jeffers Street
UID:e.590.4119
SEQUENCE:3
DTSTAMP:20260422T083907Z
URL:https://business.nparea.com/events/details/bah-adams-bank-western-insurors-02-15-2013-4119
END:VEVENT

END:VCALENDAR
