BEGIN:VCALENDAR
VERSION:2.0
PRODID:-//ChamberMaster//Event Calendar 2.0//EN
METHOD:PUBLISH
X-PUBLISHED-TTL:P3D
REFRESH-INTERVAL:P3D
CALSCALE:GREGORIAN
BEGIN:VEVENT
DTSTART:20130917T153000Z
DTEND:20130917T170000Z
X-MICROSOFT-CDO-ALLDAYEVENT:FALSE
SUMMARY:Applebee's Ribbon Cutting & Re-Grand Opening
DESCRIPTION:
X-ALT-DESC;FMTTYPE=text/html:
LOCATION:
UID:e.590.5419
SEQUENCE:3
DTSTAMP:20260421T210728Z
URL:https://business.nparea.com/events/details/applebee-s-ribbon-cutting-re-grand-opening-09-17-2013-5419
END:VEVENT

END:VCALENDAR
